BEGIN:VCALENDAR
VERSION:2.0
PRODID:-//Imagination Station - ECPv6.15.20//NONSGML v1.0//EN
CALSCALE:GREGORIAN
METHOD:PUBLISH
X-WR-CALNAME:Imagination Station
X-ORIGINAL-URL:https://imaginationstation.care
X-WR-CALDESC:Events for Imagination Station
REFRESH-INTERVAL;VALUE=DURATION:PT1H
X-Robots-Tag:noindex
X-PUBLISHED-TTL:PT1H
BEGIN:VTIMEZONE
TZID:UTC
BEGIN:STANDARD
TZOFFSETFROM:+0000
TZOFFSETTO:+0000
TZNAME:UTC
DTSTART:20230101T000000
END:STANDARD
END:VTIMEZONE
BEGIN:VEVENT
DTSTART;TZID=UTC:20241224T060000
DTEND;TZID=UTC:20250101T180000
DTSTAMP:20260423T155405
CREATED:20240918T004417Z
LAST-MODIFIED:20240918T004417Z
UID:2519-1735020000-1735754400@imaginationstation.care
SUMMARY:Holiday Closure
DESCRIPTION:We wish you a merry holiday season filled with joy\, warmth\, and special moments with family and friends.
URL:https://imaginationstation.care/event/holiday-closure/
END:VEVENT
BEGIN:VEVENT
DTSTART;VALUE=DATE:20241128
DTEND;VALUE=DATE:20241130
DTSTAMP:20260423T155405
CREATED:20240917T215055Z
LAST-MODIFIED:20240917T215055Z
UID:2516-1732752000-1732924799@imaginationstation.care
SUMMARY:Thanksgiving Holiday Closure
DESCRIPTION:
URL:https://imaginationstation.care/event/thanksgiving-holiday-closure/
END:VEVENT
BEGIN:VEVENT
DTSTART;VALUE=DATE:20241111
DTEND;VALUE=DATE:20241112
DTSTAMP:20260423T155405
CREATED:20240918T004946Z
LAST-MODIFIED:20240918T004946Z
UID:2520-1731283200-1731369599@imaginationstation.care
SUMMARY:Veterans Day-
DESCRIPTION:We are closed \nOn this Veterans Day\, we honor and thank all the brave men and women who have served and sacrificed for our country. Their courage and dedication are deeply appreciated.
URL:https://imaginationstation.care/event/veterans-day/
END:VEVENT
END:VCALENDAR